BEGIN:VCALENDAR
VERSION:2.0
PRODID:-//FSG Oberes Siegtal e.V. - ECPv6.15.20//NONSGML v1.0//EN
CALSCALE:GREGORIAN
METHOD:PUBLISH
X-WR-CALNAME:FSG Oberes Siegtal e.V.
X-ORIGINAL-URL:https://fsg-oberes-siegtal.de
X-WR-CALDESC:Veranstaltungen für FSG Oberes Siegtal e.V.
REFRESH-INTERVAL;VALUE=DURATION:PT1H
X-Robots-Tag:noindex
X-PUBLISHED-TTL:PT1H
BEGIN:VTIMEZONE
TZID:Europe/Berlin
BEGIN:DAYLIGHT
TZOFFSETFROM:+0100
TZOFFSETTO:+0200
TZNAME:CEST
DTSTART:20240331T010000
END:DAYLIGHT
BEGIN:STANDARD
TZOFFSETFROM:+0200
TZOFFSETTO:+0100
TZNAME:CET
DTSTART:20241027T010000
END:STANDARD
BEGIN:DAYLIGHT
TZOFFSETFROM:+0100
TZOFFSETTO:+0200
TZNAME:CEST
DTSTART:20250330T010000
END:DAYLIGHT
BEGIN:STANDARD
TZOFFSETFROM:+0200
TZOFFSETTO:+0100
TZNAME:CET
DTSTART:20251026T010000
END:STANDARD
BEGIN:DAYLIGHT
TZOFFSETFROM:+0100
TZOFFSETTO:+0200
TZNAME:CEST
DTSTART:20260329T010000
END:DAYLIGHT
BEGIN:STANDARD
TZOFFSETFROM:+0200
TZOFFSETTO:+0100
TZNAME:CET
DTSTART:20261025T010000
END:STANDARD
BEGIN:DAYLIGHT
TZOFFSETFROM:+0100
TZOFFSETTO:+0200
TZNAME:CEST
DTSTART:20270328T010000
END:DAYLIGHT
BEGIN:STANDARD
TZOFFSETFROM:+0200
TZOFFSETTO:+0100
TZNAME:CET
DTSTART:20271031T010000
END:STANDARD
END:VTIMEZONE
BEGIN:VEVENT
DTSTART;TZID=Europe/Berlin:20260202T190000
DTEND;TZID=Europe/Berlin:20260330T200000
DTSTAMP:20260422T153822
CREATED:20260113T153558Z
LAST-MODIFIED:20260113T153610Z
UID:4909-1770058800-1774900800@fsg-oberes-siegtal.de
SUMMARY:Rückengymnastik mit Karin
DESCRIPTION:Im Rahmen der Montag-Abend-Gymnastik steht von Februar bis Ostern die Rückengesundheit im Vordergrund. Übungsleiterein Karin Haase-Klobucar\, für Vereinsmitglieder kostenlos\, Infos bei Henrike Moll
URL:https://fsg-oberes-siegtal.de/event/rueckengymnastik-mit-karin/
LOCATION:Sporthalle Nenkersdorf\, Sieg-Lahn-Straße\, Nenkersdorf\, 57250\, Deutschland
END:VEVENT
BEGIN:VEVENT
DTSTART;TZID=Europe/Berlin:20260114T180000
DTEND;TZID=Europe/Berlin:20260325T190000
DTSTAMP:20260422T153822
CREATED:20251222T153335Z
LAST-MODIFIED:20251222T153356Z
UID:4882-1768413600-1774465200@fsg-oberes-siegtal.de
SUMMARY:Yoga für Frauen
DESCRIPTION:Yogastunde mit Ilka Krippendorf\, am 25.2. entfällt\, 10 Abende\, Preis wird noch bekannt gegeben\, Anmeldung über die Whatsapp-Gruppe oder bei Carmen Klappert oder Henrike Moll
URL:https://fsg-oberes-siegtal.de/event/yoga-2/
END:VEVENT
BEGIN:VEVENT
DTSTART;TZID=Europe/Berlin:20260110T140000
DTEND;TZID=Europe/Berlin:20260228T190000
DTSTAMP:20260422T153822
CREATED:20260110T085706Z
LAST-MODIFIED:20260110T085715Z
UID:4894-1768053600-1772305200@fsg-oberes-siegtal.de
SUMMARY:Skihang-Öffnung 2026
DESCRIPTION:Unter der Voraussetzung\, dass die Schneehöhe ausreichend ist\, kann der Skihang geöffnet und der Lift in Betrieb genommen werden. Dann ist auch die Skihütte geöffnet und man dort einen Kaffee\, Glühwein und eine Waffel bekommen. Aktuelle Infos fogen!
URL:https://fsg-oberes-siegtal.de/event/skihang-oeffnung-2026/
END:VEVENT
BEGIN:VEVENT
DTSTART;TZID=Europe/Berlin:20251107T193000
DTEND;TZID=Europe/Berlin:20260130T203000
DTSTAMP:20260422T153822
CREATED:20251022T164125Z
LAST-MODIFIED:20251022T164133Z
UID:4866-1762543800-1769805000@fsg-oberes-siegtal.de
SUMMARY:Männergymnastik Winter 2025/26
DESCRIPTION:Übungsleiterin Karin Haase-Klobucar\, Info bei Peter Habicht 
URL:https://fsg-oberes-siegtal.de/event/maennergymnastik-winter-2025-26/
LOCATION:Sporthalle Nenkersdorf\, Sieg-Lahn-Straße\, Nenkersdorf\, 57250\, Deutschland
END:VEVENT
BEGIN:VEVENT
DTSTART;TZID=Europe/Berlin:20251023T180000
DTEND;TZID=Europe/Berlin:20260129T210000
DTSTAMP:20260422T153822
CREATED:20251022T164923Z
LAST-MODIFIED:20251022T164930Z
UID:4874-1761242400-1769720400@fsg-oberes-siegtal.de
SUMMARY:Spinning Winter 25/26
DESCRIPTION:Während der Wintersaison gibt es zwei Gruppen Spinning im Sportpark in Netphen. Infos bei Henning Uhlendorf.
URL:https://fsg-oberes-siegtal.de/event/spinning-winter-25-26/
LOCATION:Sportpark\, Netphen
END:VEVENT
BEGIN:VEVENT
DTSTART;TZID=Europe/Berlin:20250901T190000
DTEND;TZID=Europe/Berlin:20260126T200000
DTSTAMP:20260422T153822
CREATED:20250720T082746Z
LAST-MODIFIED:20251222T153646Z
UID:4837-1756753200-1769457600@fsg-oberes-siegtal.de
SUMMARY:Montag-Abend-Gymnastik
DESCRIPTION:Ab dem 03.11.25 steht die Montag-Abend-Gymnastik unter dem Motto „wir machen uns fit fürs Skifahren“. Natürlich sind auch die Nicht-Skifahrer herzlich willkommen. Ab Februar bis ca. Ostern 2026 liegt der Schwerpunkt auf der Rückengesundheit. Übungsleiterin: Karin Haase-Klobucar
URL:https://fsg-oberes-siegtal.de/event/montag-abend-gymnastik/
LOCATION:Sporthalle Nenkersdorf\, Sieg-Lahn-Straße\, Nenkersdorf\, 57250\, Deutschland
END:VEVENT
END:VCALENDAR